BEGIN:VCALENDAR
VERSION:2.0
PRODID:-//Resilience - ECPv6.15.20//NONSGML v1.0//EN
CALSCALE:GREGORIAN
METHOD:PUBLISH
X-ORIGINAL-URL:https://www.ourresilience.org
X-WR-CALDESC:Events for Resilience
REFRESH-INTERVAL;VALUE=DURATION:PT1H
X-Robots-Tag:noindex
X-PUBLISHED-TTL:PT1H
BEGIN:VTIMEZONE
TZID:America/Chicago
BEGIN:DAYLIGHT
TZOFFSETFROM:-0600
TZOFFSETTO:-0500
TZNAME:CDT
DTSTART:20250309T080000
END:DAYLIGHT
BEGIN:STANDARD
TZOFFSETFROM:-0500
TZOFFSETTO:-0600
TZNAME:CST
DTSTART:20251102T070000
END:STANDARD
BEGIN:DAYLIGHT
TZOFFSETFROM:-0600
TZOFFSETTO:-0500
TZNAME:CDT
DTSTART:20260308T080000
END:DAYLIGHT
BEGIN:STANDARD
TZOFFSETFROM:-0500
TZOFFSETTO:-0600
TZNAME:CST
DTSTART:20261101T070000
END:STANDARD
BEGIN:DAYLIGHT
TZOFFSETFROM:-0600
TZOFFSETTO:-0500
TZNAME:CDT
DTSTART:20270314T080000
END:DAYLIGHT
BEGIN:STANDARD
TZOFFSETFROM:-0500
TZOFFSETTO:-0600
TZNAME:CST
DTSTART:20271107T070000
END:STANDARD
END:VTIMEZONE
BEGIN:VEVENT
DTSTART;TZID=America/Chicago:20260404T170000
DTEND;TZID=America/Chicago:20260404T200000
DTSTAMP:20260423T031238
CREATED:20260318T195411Z
LAST-MODIFIED:20260318T202358Z
UID:10001921-1775322000-1775332800@www.ourresilience.org
SUMMARY:Sex-A-Palooza
DESCRIPTION:Join us for Sex-A-Palooza Bingo\, a fun and engaging event celebrating sex positivity while supporting Resilience during Sexual Assault Awareness Month. Participants can enjoy bingo with themed prizes\, learn helpful facts about sexual health and consent\, and connect with resources that support survivors. Come for the games\, stay for the conversation\, and help build a more informed\, respectful\, and supportive community.
URL:https://www.ourresilience.org/event/sex-a-palooza/
LOCATION:Nighthawk Chicago\, 4744 N Kimball Ave\, Chicago\, IL\, 60625
CATEGORIES:Education,Fundraiser,SAAM Events
ATTACH;FMTTYPE=image/jpeg:https://www.ourresilience.org/wp-content/uploads/2026/03/Sex-a-palooza.jpg
END:VEVENT
END:VCALENDAR